BEGIN:VCALENDAR
VERSION:2.0
PRODID:-//Plone.org//NONSGML plone.app.event//EN
X-WR-TIMEZONE:Europe/Berlin
BEGIN:VEVENT
SUMMARY:Messe vocatium Flensburg 2024
DTSTART;TZID=Europe/Berlin;VALUE=DATE-TIME:20240319T083000
DTEND;TZID=Europe/Berlin;VALUE=DATE-TIME:20240320T150000
DTSTAMP;VALUE=DATE-TIME:20260422T055148Z
UID:097846521d1847c4b2726dc0082d8e48@www.machmeer.de
CONTACT:https://www.vocatium.de/fachmessen/vocatium-flensburg-2024
CREATED;VALUE=DATE-TIME:20231102T094932Z
DESCRIPTION:Wir sind für euch auf der vocatium in Flensburg!
LAST-MODIFIED;VALUE=DATE-TIME:20240111T070351Z
LOCATION:Campushalle Flensburg
URL:https://www.machmeer.de/einstieg/events/messe-vocatium-flensburg-2
END:VEVENT
BEGIN:VTIMEZONE
TZID:Europe/Berlin
X-LIC-LOCATION:Europe/Berlin
BEGIN:STANDARD
DTSTART;VALUE=DATE-TIME:20231029T020000
TZNAME:CET
TZOFFSETFROM:+0200
TZOFFSETTO:+0100
END:STANDARD
END:VTIMEZONE
END:VCALENDAR
